BEGIN:VCALENDAR
VERSION:2.0
PRODID:-//RiverCenter - ECPv6.15.16//NONSGML v1.0//EN
CALSCALE:GREGORIAN
METHOD:PUBLISH
X-WR-CALNAME:RiverCenter
X-ORIGINAL-URL:https://rivercenter.org
X-WR-CALDESC:Events for RiverCenter
REFRESH-INTERVAL;VALUE=DURATION:PT1H
X-Robots-Tag:noindex
X-PUBLISHED-TTL:PT1H
BEGIN:VTIMEZONE
TZID:America/New_York
BEGIN:DAYLIGHT
TZOFFSETFROM:-0500
TZOFFSETTO:-0400
TZNAME:EDT
DTSTART:20250309T070000
END:DAYLIGHT
BEGIN:STANDARD
TZOFFSETFROM:-0400
TZOFFSETTO:-0500
TZNAME:EST
DTSTART:20251102T060000
END:STANDARD
BEGIN:DAYLIGHT
TZOFFSETFROM:-0500
TZOFFSETTO:-0400
TZNAME:EDT
DTSTART:20260308T070000
END:DAYLIGHT
BEGIN:STANDARD
TZOFFSETFROM:-0400
TZOFFSETTO:-0500
TZNAME:EST
DTSTART:20261101T060000
END:STANDARD
BEGIN:DAYLIGHT
TZOFFSETFROM:-0500
TZOFFSETTO:-0400
TZNAME:EDT
DTSTART:20270314T070000
END:DAYLIGHT
BEGIN:STANDARD
TZOFFSETFROM:-0400
TZOFFSETTO:-0500
TZNAME:EST
DTSTART:20271107T060000
END:STANDARD
END:VTIMEZONE
BEGIN:VEVENT
DTSTART;VALUE=DATE:20260425
DTEND;VALUE=DATE:20260427
DTSTAMP:20260424T124757
CREATED:20260401T140021Z
LAST-MODIFIED:20260331T141453Z
UID:19664-1777078800-1777165199@rivercenter.org
SUMMARY:Toni's Dance School: "Walk of Fame"
DESCRIPTION:
URL:https://rivercenter.org/event/tonis-dance-school-walk-of-fame/
CATEGORIES:2025-2026 Season,Featured,Front page Slider,Third Party,TV Scroller
ATTACH;FMTTYPE=image/png:https://rivercenter.org/wp-content/uploads/2026/03/tds-square.png
END:VEVENT
END:VCALENDAR